BEGIN:VCALENDAR
VERSION:2.0
PRODID:-//Ballina Aero Club Inc - ECPv6.15.20//NONSGML v1.0//EN
CALSCALE:GREGORIAN
METHOD:PUBLISH
X-ORIGINAL-URL:https://www.ballinaaeroclub.org.au
X-WR-CALDESC:Events for Ballina Aero Club Inc
REFRESH-INTERVAL;VALUE=DURATION:PT1H
X-Robots-Tag:noindex
X-PUBLISHED-TTL:PT1H
BEGIN:VTIMEZONE
TZID:Australia/Sydney
BEGIN:STANDARD
TZOFFSETFROM:+1100
TZOFFSETTO:+1000
TZNAME:AEST
DTSTART:20170401T160000
END:STANDARD
BEGIN:DAYLIGHT
TZOFFSETFROM:+1000
TZOFFSETTO:+1100
TZNAME:AEDT
DTSTART:20170930T160000
END:DAYLIGHT
BEGIN:STANDARD
TZOFFSETFROM:+1100
TZOFFSETTO:+1000
TZNAME:AEST
DTSTART:20180331T160000
END:STANDARD
BEGIN:DAYLIGHT
TZOFFSETFROM:+1000
TZOFFSETTO:+1100
TZNAME:AEDT
DTSTART:20181006T160000
END:DAYLIGHT
BEGIN:STANDARD
TZOFFSETFROM:+1100
TZOFFSETTO:+1000
TZNAME:AEST
DTSTART:20190406T160000
END:STANDARD
BEGIN:DAYLIGHT
TZOFFSETFROM:+1000
TZOFFSETTO:+1100
TZNAME:AEDT
DTSTART:20191005T160000
END:DAYLIGHT
BEGIN:STANDARD
TZOFFSETFROM:+1100
TZOFFSETTO:+1000
TZNAME:AEST
DTSTART:20200404T160000
END:STANDARD
BEGIN:DAYLIGHT
TZOFFSETFROM:+1000
TZOFFSETTO:+1100
TZNAME:AEDT
DTSTART:20201003T160000
END:DAYLIGHT
END:VTIMEZONE
BEGIN:VEVENT
DTSTART;TZID=Australia/Sydney:20180830T080000
DTEND;TZID=Australia/Sydney:20180902T000000
DTSTAMP:20260425T233925
CREATED:20170924T225011Z
LAST-MODIFIED:20171006T055004Z
UID:13072-1535616000-1535846400@www.ballinaaeroclub.org.au
SUMMARY:Birdsville Airport Management Project
DESCRIPTION:The main days at Birdsville in 2018 are Friday 31st August and Saturday 1st September 2018. Anyone wishing to be involved in a volunteer capacity is invited to contact the Team Manager for further information.
URL:https://www.ballinaaeroclub.org.au/event/birdsville-airport-management-project/
LOCATION:QLD
END:VEVENT
BEGIN:VEVENT
DTSTART;TZID=Australia/Sydney:20190906T080000
DTEND;TZID=Australia/Sydney:20190907T170000
DTSTAMP:20260425T233925
CREATED:20190504T091233Z
LAST-MODIFIED:20190504T091233Z
UID:13216-1567756800-1567875600@www.ballinaaeroclub.org.au
SUMMARY:BIRDSVILLE RACES 2019
DESCRIPTION:AN EVENT UNLIKE ANY OTHER\nExperience a weekend of excitement in the heart of Australia
URL:https://www.ballinaaeroclub.org.au/event/birdsville-races-2019/
LOCATION:Birdsville\, Birdsville\, QLD\, 4482\, Australia
END:VEVENT
END:VCALENDAR